BEGIN:VCALENDAR
VERSION:2.0
PRODID:-//sebbo.net//ical-generator//EN
BEGIN:VEVENT
UID:0c2afa92-dbac-427a-8d80-28dea51af981
SEQUENCE:0
DTSTAMP:20260420T073537Z
DTSTART:20260429T163000Z
DTEND:20260429T193000Z
SUMMARY:DISARSTAR - Hamburger Aufstand Live 2026 - Rostock - M.A.U. Club
LOCATION:M.A.U. Club\, Warnowufer 56\, 18057 Rostock\, Deutschland
DESCRIPTION:Einlass: 18:30 Uhr\, Beginn: 19:30
END:VEVENT
END:VCALENDAR