BEGIN:VCALENDAR
VERSION:2.0
PRODID:-//sebbo.net//ical-generator//EN
BEGIN:VEVENT
UID:ba7b14d2-6409-4a78-8b30-52f675a166db
SEQUENCE:0
DTSTAMP:20260420T123044Z
DTSTART:20260430T163000Z
DTEND:20260430T200000Z
SUMMARY:DISARSTAR - Tanz in den Mai - Hamburg - Sporthalle
LOCATION:Sporthalle\, Krochmannstraße 55\, 22297 Hamburg\, Germany
DESCRIPTION:Doors: 18:30 Uhr\, Start: 20:00
END:VEVENT
END:VCALENDAR